BEGIN:VCALENDAR
PRODID:-//Microsoft Corporation//Outlook 16.0 MIMEDIR//EN
VERSION:2.0
METHOD:REQUEST
X-MS-OLK-FORCEINSPECTOROPEN:TRUE
BEGIN:VTIMEZONE
TZID:W. Europe Standard Time
BEGIN:STANDARD
DTSTART:16011028T030000
RRULE:FREQ=YEARLY;BYDAY=-1SU;BYMONTH=10
TZOFFSETFROM:+0200
TZOFFSETTO:+0100
END:STANDARD
BEGIN:DAYLIGHT
DTSTART:16010325T020000
RRULE:FREQ=YEARLY;BYDAY=-1SU;BYMONTH=3
TZOFFSETFROM:+0100
TZOFFSETTO:+0200
END:DAYLIGHT
END:VTIMEZONE
BEGIN:VEVENT
ATTENDEE;CN="FoRMS AG (marketing@formsgallery.com)";CUTYPE=RESOURCE;ROLE=NO
	N-PARTICIPANT;RSVP=TRUE:mailto:marketing@formsgallery.com
CLASS:PUBLIC
CREATED:20251029T094412Z
DESCRIPTION: \n\n
DTEND;TZID="W. Europe Standard Time":20251122T220000
DTSTAMP:20251029T094240Z
DTSTART;TZID="W. Europe Standard Time":20251122T100000
LAST-MODIFIED:20251029T094412Z
LOCATION:FoRMS
ORGANIZER;CN=Marketing:mailto:marketing@formsgallery.com
PRIORITY:5
SEQUENCE:0
SUMMARY;LANGUAGE=de-ch:FoRMS Weihnachtsmarkt
TRANSP:OPAQUE
UID:040000008200E00074C5B7101A82E008000000000033B2D9BF48DC01000000000000000
	010000000EF35D563E9C5B847A1B83FF2B2703287
X-ALT-DESC;FMTTYPE=text/html:<html xmlns:o="urn:schemas-microsoft-com:offic
	e:office" xmlns:w="urn:schemas-microsoft-com:office:word" xmlns:m="http://
	schemas.microsoft.com/office/2004/12/omml" xmlns="http://www.w3.org/TR/REC
	-html40"><head><meta name=Generator content="Microsoft Word 15 (filtered m
	edium)"><style><!--\n/* Font Definitions */\n@font-face\n	{font-family:"Ca
	mbria Math"\;\n	panose-1:2 4 5 3 5 4 6 3 2 4\;}\n@font-face\n	{font-family
	:"Lucida Sans Unicode"\;\n	panose-1:2 11 6 2 3 5 4 2 2 4\;}\n/* Style Defi
	nitions */\np.MsoNormal\, li.MsoNormal\, div.MsoNormal\n	{margin:0cm\;\n	f
	ont-size:11.0pt\;\n	font-family:"Arial"\,sans-serif\;\n	mso-fareast-langua
	ge:EN-US\;}\nspan.E-MailFormatvorlage29\n	{mso-style-type:personal-compose
	\;\n	font-family:"Lucida Sans Unicode"\,sans-serif\;\n	color:windowtext\;}
	\n.MsoChpDefault\n	{mso-style-type:export-only\;\n	font-size:11.0pt\;\n	ms
	o-ligatures:none\;\n	mso-fareast-language:EN-US\;}\n@page WordSection1\n	{
	size:612.0pt 792.0pt\;\n	margin:72.0pt 72.0pt 72.0pt 72.0pt\;}\ndiv.WordSe
	ction1\n	{page:WordSection1\;}\n--></style></head><body lang=DE-CH link="#
	0563C1" vlink="#954F72" style='word-wrap:break-word'><div class=WordSectio
	n1><p class=MsoNormal><span style='font-family:"Lucida Sans Unicode"\,sans
	-serif'><o:p>&nbsp\;</o:p></span></p></div></body></html>
X-MICROSOFT-CDO-BUSYSTATUS:BUSY
X-MICROSOFT-CDO-IMPORTANCE:1
X-MICROSOFT-DISALLOW-COUNTER:FALSE
X-MS-OLK-APPTSEQTIME:20251029T094240Z
X-MS-OLK-AUTOFILLLOCATION:TRUE
X-MS-OLK-CONFTYPE:0
BEGIN:VALARM
TRIGGER:-PT15M
ACTION:DISPLAY
DESCRIPTION:Reminder
END:VALARM
END:VEVENT
END:VCALENDAR
